BEGIN:VCALENDAR
VERSION:2.0
PRODID:-//ExpressionEngine Easy iCalendar plugin//NONSGML v2.0.1//EN
X-WR-TIMEZONE:America/New_York
X-WR-CALNAME:Upcoming Auctions
BEGIN:VEVENT
UID:46892
DTSTAMP:20200206T090000
DTSTART:20200206T090000
DTEND:20200217T190000
SUMMARY:Living Estate Auction
LOCATION:1181 Vista Glen Dr\, Suite #5\, Harrisonburg\, VA 22801\, US
DESCRIPTION:Living Estate Online Only Auction featuring 2009 Subaru Outb
 ack\, Antiques and Fine Furniture\, Art\, Area Rugs\, Kitchenwar
 e\, and Decorative Items. Auction Ends February 17\, Pickup On
  February 18 from 1-6 PM
URL:https://mountainvalleyauctions.bwwsstaging.com/auctions/deta
 il/bw46892
SEQUENCE:1
END:VEVENT
END:VCALENDAR