BEGIN:VCALENDAR
VERSION:2.0
PRODID:-//ExpressionEngine Easy iCalendar plugin//NONSGML v2.0.1//EN
X-WR-TIMEZONE:America/New_York
X-WR-CALNAME:Upcoming Auctions
BEGIN:VEVENT
UID:47907
DTSTAMP:20200305T120000
DTSTART:20200305T120000
DTEND:20200316T190000
SUMMARY:Living Estate Auction
LOCATION:967 Lee Ave\, Harrisonburg\, VA 22802\, US
DESCRIPTION:Online Only Auction For the Rev. Richard and Jo Umberger Liv
 ing Estate featuring Antiques and Furniture\, Art\, Vintage To
 ys and Games\, Sterling Silver\, Glassware\, Lawn and Garden It
 ems\, Tools\, Kitchenware\, and Decorative Items. Auction Ends 
 March 16\, Pickup On March 17 from 12-6 PM
URL:https://mountainvalleyauctions.bwwsstaging.com/auctions/deta
 il/bw47907
SEQUENCE:1
END:VEVENT
END:VCALENDAR