BEGIN:VCALENDAR
VERSION:2.0
PRODID:-//ExpressionEngine Easy iCalendar plugin//NONSGML v2.0.1//EN
X-WR-TIMEZONE:America/New_York
X-WR-CALNAME:Upcoming Auctions
BEGIN:VEVENT
UID:47974
DTSTAMP:20200409T120000
DTSTART:20200409T120000
DTEND:20200509T121000
SUMMARY:Personal Property Auction - Gerald Critcher Estate
LOCATION:12316 Beach Rd\, Chesterfield\, VA 23832\, US
DESCRIPTION:To settle the estate of the late Gerald W. Critcher we will 
 be selling in an online auction the real estate\, classic car
 s\, tractors\, farm equipment\, tools\, parts\, vehicles\, and oth
 er personal property located at 12316 Beach Rd. Chesterfield
  VA. This auction begins to close at 12:10 PM May 9\, 2020.
URL:https://mountainvalleyauctions.bwwsstaging.com/auctions/deta
 il/bw47974
SEQUENCE:1
END:VEVENT
END:VCALENDAR