BEGIN:VCALENDAR
VERSION:2.0
PRODID:-//ExpressionEngine Easy iCalendar plugin//NONSGML v2.0.1//EN
X-WR-TIMEZONE:America/New_York
X-WR-CALNAME:Upcoming Auctions
BEGIN:VEVENT
UID:48110
DTSTAMP:20200312T120000
DTSTART:20200312T120000
DTEND:20200330T190000
SUMMARY:Coin And Silver Auction
LOCATION:350 Bowman Road\, Dayton\, VA 22821\, US
DESCRIPTION:Online Only Coin Auction Featuring Over 1\,500 Coins\, Silver 
 Eagles\, Silver Dollars\, Half Dollars\, Quarters\, Dimes\, Nicke
 ls\, Large and Small Cents\, and More! Shipping Available. Auc
 tion Closes March 30 Beginning @ 7:00 PM. Preview Available 
 By Appointment.
URL:https://mountainvalleyauctions.bwwsstaging.com/auctions/deta
 il/bw48110
SEQUENCE:1
END:VEVENT
END:VCALENDAR