BEGIN:VCALENDAR
VERSION:2.0
PRODID:-//ExpressionEngine Easy iCalendar plugin//NONSGML v2.0.1//EN
X-WR-TIMEZONE:America/New_York
X-WR-CALNAME:Upcoming Auctions
BEGIN:VEVENT
UID:50001
DTSTAMP:20200507T090000
DTSTART:20200507T090000
DTEND:20200519T190000
SUMMARY:Mt Sidney Area Downsizing/Moving Auction
LOCATION:187 Todd Rd\, Mt Sidney\, VA 24467\, US
DESCRIPTION:Harrisonburg Area Downsizing/Moving Auction: This is an onli
 ne only auction featuring a Ford 1210 4WD tractor and implem
 ents\, antiques\, tools\, toys\, sporting goods\, furniture\, art\,
  lawn and garden items and more. Auction begins to close 7:0
 0 PM May 19. Pickup is May 21 from 10 AM - 6 PM. Local Picku
 p Only - No Shipping Available On This Auction.
URL:https://mountainvalleyauctions.bwwsstaging.com/auctions/deta
 il/bw50001
SEQUENCE:1
END:VEVENT
END:VCALENDAR