BEGIN:VCALENDAR
VERSION:2.0
PRODID:-//ExpressionEngine Easy iCalendar plugin//NONSGML v2.0.1//EN
X-WR-TIMEZONE:America/New_York
X-WR-CALNAME:Upcoming Auctions
BEGIN:VEVENT
UID:52157
DTSTAMP:20200714T190000
DTSTART:20200714T190000
DTEND:20200727T190000
SUMMARY:Dorothy Hefner Estate Auction
LOCATION:408 N Liberty St\, Bridgewater\, VA 22812\, US
DESCRIPTION:Dorothy Hefner Estate Auction: This is an online only auctio
 n featuring a metal carport\, antiques\, furniture\, sporting g
 oods\, art\, lawn and garden\, carnival and depression glass\, a
 ppliances\, cookware\, and more. Auction begins to close at 7:
 00 PM July 27. Shipping Available At Buyers Expense For Smal
 l Items Only.
URL:https://mountainvalleyauctions.bwwsstaging.com/auctions/deta
 il/bw52157
SEQUENCE:1
END:VEVENT
END:VCALENDAR