BEGIN:VCALENDAR
VERSION:2.0
PRODID:-//ExpressionEngine Easy iCalendar plugin//NONSGML v2.0.1//EN
X-WR-TIMEZONE:America/New_York
X-WR-CALNAME:Upcoming Auctions
BEGIN:VEVENT
UID:52205
DTSTAMP:20200715T190000
DTSTART:20200715T190000
DTEND:20200728T190000
SUMMARY:Harrisonburg Area Downsizing/Moving Auction
LOCATION:2989 Mt Clinton Pike\, Harrisonburg\, VA 22802\, US
DESCRIPTION:Harrisonburg Area Downsizing/Moving Auction: This is an onli
 ne only auction featuring fine furniture\, art including four
  P. Buckley Moss prints\, rugs\, a piano and more. Auction beg
 ins to close 7:00 PM July 28. Pickup is July 30 from 2-6 PM.
  Local Pickup Only - No Shipping Available On This Auction.
URL:https://mountainvalleyauctions.bwwsstaging.com/auctions/deta
 il/bw52205
SEQUENCE:1
END:VEVENT
END:VCALENDAR