BEGIN:VCALENDAR
VERSION:2.0
PRODID:-//ExpressionEngine Easy iCalendar plugin//NONSGML v2.0.1//EN
X-WR-TIMEZONE:America/New_York
X-WR-CALNAME:Upcoming Auctions
BEGIN:VEVENT
UID:52291
DTSTAMP:20200822T090000
DTSTART:20200822T090000
DTEND:20200822T100000
SUMMARY:Summer Consignment Auction
LOCATION:203 Barbeque Dr\, Berkeley Springs\, WV 25411\, US
DESCRIPTION:Summer Consignment Auction featuring agricultural\, heavy equ
 ipment\, construction equipment and tools\, vehicles\, trucks\, 
 trailers\, and powersports. This auction is being held at the
  Triple B Arena in Berkeley Springs WV in conjunction with M
 ountaineer Auctioneers. Call today if you have vehicles\, equ
 ipment\, farm machinery or tools to sell. Consignment deadlin
 e for online bidding and marketing is August 19 at 5:00 PM.
URL:https://mountainvalleyauctions.bwwsstaging.com/auctions/deta
 il/bw52291
SEQUENCE:1
END:VEVENT
END:VCALENDAR