BEGIN:VCALENDAR
VERSION:2.0
PRODID:-//ExpressionEngine Easy iCalendar plugin//NONSGML v2.0.1//EN
X-WR-TIMEZONE:America/New_York
X-WR-CALNAME:Upcoming Auctions
BEGIN:VEVENT
UID:53356
DTSTAMP:20200815T191500
DTSTART:20200815T191500
DTEND:20200815T201500
SUMMARY:Camp Light Benefit Auction
LOCATION:107 Creative Works Farm\, Waynesboro\, VA 22980\, US
DESCRIPTION:Go back to the 50's with us! Join us for an evening of music
  and dinner\, followed by a live auction. All proceeds benefi
 t Camp LIGHT\, a summer camp for children with special needs 
 and at risk youth. To learn more about Camp LIGHT\, visit www
 .campLIGHT.org
URL:https://mountainvalleyauctions.bwwsstaging.com/auctions/deta
 il/bw53356
SEQUENCE:1
END:VEVENT
END:VCALENDAR