BEGIN:VCALENDAR
VERSION:2.0
PRODID:-//ExpressionEngine Easy iCalendar plugin//NONSGML v2.0.1//EN
X-WR-TIMEZONE:America/New_York
X-WR-CALNAME:Upcoming Auctions
BEGIN:VEVENT
UID:53527
DTSTAMP:20200818T190000
DTSTART:20200818T190000
DTEND:20200831T190000
SUMMARY:Antique and Country Store Liquidation
LOCATION:166 Musket Trail\, Maysville\, WV 26833\, US
DESCRIPTION:Antique and Country Store Liquidation Online Only Auction. S
 elling antiques\, silver\, railroadiania\, paper currency\, coin
 s\, historical items\, glassware\, pottery\, civil war and other
  military items. Auction closes August 31st. Pickup is in Ma
 ysville WV on Sept 2 or Sept 3 at our office in Dayton VA.
URL:https://mountainvalleyauctions.bwwsstaging.com/auctions/deta
 il/bw53527
SEQUENCE:1
END:VEVENT
END:VCALENDAR