BEGIN:VCALENDAR
VERSION:2.0
PRODID:-//ExpressionEngine Easy iCalendar plugin//NONSGML v2.0.1//EN
X-WR-TIMEZONE:America/New_York
X-WR-CALNAME:Upcoming Auctions
BEGIN:VEVENT
UID:55149
DTSTAMP:20200928T000000
DTSTART:20200928T000000
DTEND:20201012T190000
SUMMARY:Dayton Downsizing/Moving Auction
LOCATION:350 Bowman Road\, Dayton\, VA 22821\, US
DESCRIPTION:Our sellers have moved to a smaller home and are selling man
 y valuable and unique items in this online only auction. We 
 have lawn and garden equipment\, Snap On tools\, safes and thi
 ngs that are stored in safes\, plus outdoor and decorative it
 ems. This auction begins to close Oct 12 @ 7 PM. Preview and
  Pickup are in Dayton VA.
URL:https://mountainvalleyauctions.bwwsstaging.com/auctions/deta
 il/bw55149
SEQUENCE:1
END:VEVENT
END:VCALENDAR