BEGIN:VCALENDAR
VERSION:2.0
PRODID:-//ExpressionEngine Easy iCalendar plugin//NONSGML v2.0.1//EN
X-WR-TIMEZONE:America/New_York
X-WR-CALNAME:Upcoming Auctions
BEGIN:VEVENT
UID:55155
DTSTAMP:20201107T090000
DTSTART:20201107T090000
DTEND:20201107T100000
SUMMARY:Fall Consignment Auction
LOCATION:14025 Spotswood Trail\, Elkton\, VA 22827\, US
DESCRIPTION:Fall Consignment Auction featuring agricultural\, heavy equip
 ment\, construction equipment and tools\, vehicles\, trucks\, tr
 ailers\, and powersports. This auction is being held on Rt 33
  in Elkton VA right beside Myers Ford. Call today if you hav
 e vehicles\, equipment\, farm machinery or tools to sell. Cons
 ignment deadline for online bidding and marketing is Novembe
 r 4 at 5:00 PM.
URL:https://mountainvalleyauctions.bwwsstaging.com/auctions/deta
 il/bw55155
SEQUENCE:1
END:VEVENT
END:VCALENDAR