BEGIN:VCALENDAR
VERSION:2.0
PRODID:-//ExpressionEngine Easy iCalendar plugin//NONSGML v2.0.1//EN
X-WR-TIMEZONE:America/New_York
X-WR-CALNAME:Upcoming Auctions
BEGIN:VEVENT
UID:55684
DTSTAMP:20201009T190000
DTSTART:20201009T190000
DTEND:20201027T190000
SUMMARY:Alvin
LOCATION:17674 Sun Valley Dr.\, Elkton\, VA 22827\, US
DESCRIPTION:Alvin "Buddy" Corbin Estate Auction Part Two. This online on
 ly auction features a very nice 2001 Ford F150\, John Deere G
 arden Tractor\, Lots Of Tools\, Fine Furniture\, Taxidermy\, Art
 \, and Household Furnishings. Bidding begins to close Oct 27 
 @ 7 PM
URL:https://mountainvalleyauctions.bwwsstaging.com/auctions/deta
 il/bw55684
SEQUENCE:1
END:VEVENT
END:VCALENDAR