BEGIN:VCALENDAR
VERSION:2.0
PRODID:-//ExpressionEngine Easy iCalendar plugin//NONSGML v2.0.1//EN
X-WR-TIMEZONE:America/New_York
X-WR-CALNAME:Upcoming Auctions
BEGIN:VEVENT
UID:56020
DTSTAMP:20201020T190000
DTSTART:20201020T190000
DTEND:20201110T190000
SUMMARY:Emory and Thelma Good Estate Auction
LOCATION:3142 Rawley Pike\, Harrisonburg\, VA 22801\, US
DESCRIPTION:This online only auction features many collectibles\, antique
 s\, vintage toys\, tools\, art\, and household items. This aucti
 on begins to close at 7:00 PM on November 10. Pickup is Nove
 mber 11.
URL:https://mountainvalleyauctions.bwwsstaging.com/auctions/deta
 il/bw56020
SEQUENCE:1
END:VEVENT
END:VCALENDAR