BEGIN:VCALENDAR
VERSION:2.0
PRODID:-//ExpressionEngine Easy iCalendar plugin//NONSGML v2.0.1//EN
X-WR-TIMEZONE:America/New_York
X-WR-CALNAME:Upcoming Auctions
BEGIN:VEVENT
UID:57457
DTSTAMP:20201121T210000
DTSTART:20201121T210000
DTEND:20201207T190000
SUMMARY:Gold\, Silver\, and Coin Auction
LOCATION:350 Bowman Road\, Dayton\, VA 22821\, US
DESCRIPTION:Online Only Gold\, Silver\, and Coin Auction Featuring Silver 
 and Gold Eagles and Bullion\, Silver Dollars\, Silver Half Dol
 lars\, Paper Currency\, Quarters\, Dimes\, Nickels\, Large and Sm
 all Cents\, and More! Shipping Available. Auction Closes Dece
 mber 7 Beginning @ 7:00 PM. Preview Available By Appointment
 .
URL:https://mountainvalleyauctions.bwwsstaging.com/auctions/deta
 il/bw57457
SEQUENCE:1
END:VEVENT
END:VCALENDAR