BEGIN:VCALENDAR
VERSION:2.0
PRODID:-//ExpressionEngine Easy iCalendar plugin//NONSGML v2.0.1//EN
X-WR-TIMEZONE:America/New_York
X-WR-CALNAME:Upcoming Auctions
BEGIN:VEVENT
UID:57576
DTSTAMP:20201124T103000
DTSTART:20201124T103000
DTEND:20201215T130000
SUMMARY:1.087 +/- Acres And Improvements In Town Of Bridgewater VA
LOCATION:408 N Liberty St\, Bridgewater\, VA 22812\, US
DESCRIPTION:To settle the estate of the late Dorothy M Hefner we are of
 fering at online auction the real estate and improvements l
 ocated at 408 North Liberty St\, Bridgewater VA. This propert
 y is zoned R-3 Multi-Family Residential and is an excellent 
 investment or rental opportunity.  It is conveinently locat
 ed within walking distance of several parks\, restuarants\, Br
 idgewater College\, and downtown Bridgewater.
URL:https://mountainvalleyauctions.bwwsstaging.com/auctions/deta
 il/bw57576
SEQUENCE:1
END:VEVENT
END:VCALENDAR