BEGIN:VCALENDAR
VERSION:2.0
PRODID:-//ExpressionEngine Easy iCalendar plugin//NONSGML v2.0.1//EN
X-WR-TIMEZONE:America/New_York
X-WR-CALNAME:Upcoming Auctions
BEGIN:VEVENT
UID:57914
DTSTAMP:20201205T000000
DTSTART:20201205T000000
DTEND:20201217T190000
SUMMARY:Tom Walker Collection Auction
LOCATION:4007 Old Calverton Road\, Calverton\, VA 20138\, US
DESCRIPTION:Online Only Auction For The Tom Walker Collection Of Antique
 s\, Vehicles\, Farm Equipment\, Lawn and Garden\, And More! Auct
 ion Closing and Preview Is December 17. Pickup Is December 1
 8 and 19.
URL:https://mountainvalleyauctions.bwwsstaging.com/auctions/deta
 il/bw57914
SEQUENCE:1
END:VEVENT
END:VCALENDAR