BEGIN:VCALENDAR
VERSION:2.0
PRODID:-//ExpressionEngine Easy iCalendar plugin//NONSGML v2.0.1//EN
X-WR-TIMEZONE:America/New_York
X-WR-CALNAME:Upcoming Auctions
BEGIN:VEVENT
UID:58983
DTSTAMP:20210110T170000
DTSTART:20210110T170000
DTEND:20210120T190000
SUMMARY:Restaurant Equipment and Fixtures
LOCATION:350 University Blvd\, Harrisonburg\, VA 22801\, US
DESCRIPTION:Short Notice Sale! The former Quaker Steak and Lube location
  in Harrisonburg VA is being renovated to make way for the n
 ew Island Wings Restaurant. This is your opportunity to buy 
 the fixtures\, chairs\, bars\, and other items that won't fit w
 ith the new décor.
URL:https://mountainvalleyauctions.bwwsstaging.com/auctions/deta
 il/bw58983
SEQUENCE:1
END:VEVENT
END:VCALENDAR