BEGIN:VCALENDAR
VERSION:2.0
PRODID:-//ExpressionEngine Easy iCalendar plugin//NONSGML v2.0.1//EN
X-WR-TIMEZONE:America/New_York
X-WR-CALNAME:Upcoming Auctions
BEGIN:VEVENT
UID:59198
DTSTAMP:20210116T170000
DTSTART:20210116T170000
DTEND:20210203T170000
SUMMARY:Masonry Construction Vehicles and Equipment Auction
LOCATION:1327 Highland Turnpike\, Monterey\, VA 24465\, US
DESCRIPTION:Online only auction for masonry and construction\, equipment\,
  vehicles\, tools\, and materials. The auction location is on 
 Rt 250 in Highland County near Monterey VA. Auction closes F
 ebruary 3.
URL:https://mountainvalleyauctions.bwwsstaging.com/auctions/deta
 il/bw59198
SEQUENCE:1
END:VEVENT
END:VCALENDAR