BEGIN:VCALENDAR
VERSION:2.0
PRODID:-//ExpressionEngine Easy iCalendar plugin//NONSGML v2.0.1//EN
X-WR-TIMEZONE:America/New_York
X-WR-CALNAME:Upcoming Auctions
BEGIN:VEVENT
UID:59213
DTSTAMP:20210117T170000
DTSTART:20210117T170000
DTEND:20210216T130000
SUMMARY:Valuable Highland County Real Estate 4.36  +/- Acres And Imp
 rovements
LOCATION:1327 Highland Turnpike\, Monterey\, VA 24465\, US
DESCRIPTION:We are offering at online auction the real estate and impro
 vements located at 1327 Highland Turnpike\, Monterey VA 2446
 5. This property is 4.36+/- acres zoned single family resid
 ential and improved by a one bedroom\, one bath home as well
  as a shop/garage building. It features over 500 ft of roa
 d frontage on US Rt 250 at the top of Jack Mountain with gre
 at views to the east and west as well as a potential home bu
 ilding site located away from the highway.
URL:https://mountainvalleyauctions.bwwsstaging.com/auctions/deta
 il/bw59213
SEQUENCE:1
END:VEVENT
END:VCALENDAR