BEGIN:VCALENDAR
VERSION:2.0
PRODID:-//ExpressionEngine Easy iCalendar plugin//NONSGML v2.0.1//EN
X-WR-TIMEZONE:America/New_York
X-WR-CALNAME:Upcoming Auctions
BEGIN:VEVENT
UID:59992
DTSTAMP:20210207T190000
DTSTART:20210207T190000
DTEND:20210222T190000
SUMMARY:Tom Walker Collection Auction #2
LOCATION:2917 Willow Run Rd\, Harrisonburg\, VA 22802\, US
DESCRIPTION:Online only auction for the second part of the Tom Walker Co
 llection. This is a pickers dream with vintage toys\, license
  plates\, cast iron\, car parts\, lanterns\, signs\, tools and de
 corative items. This auction location is in Harrisonburg VA 
 and closes Monday February 22. Shipping is available.
URL:https://mountainvalleyauctions.bwwsstaging.com/auctions/deta
 il/bw59992
SEQUENCE:1
END:VEVENT
END:VCALENDAR