BEGIN:VCALENDAR
VERSION:2.0
PRODID:-//ExpressionEngine Easy iCalendar plugin//NONSGML v2.0.1//EN
X-WR-TIMEZONE:America/New_York
X-WR-CALNAME:Upcoming Auctions
BEGIN:VEVENT
UID:60274
DTSTAMP:20210215T190000
DTSTART:20210215T190000
DTEND:20210301T190000
SUMMARY:Silver\, Coin\, Currency\, and Tokens Auction
LOCATION:350 Bowman Road\, Dayton\, VA 22821\, US
DESCRIPTION:Online Only Auction For Silver\, Coins\, Currency\, and Tokens 
 Featuring Silver Dollars\, Eagles and Bullion\, Silver Half Do
 llars\, Paper Currency\, Quarters\, Dimes\, Nickels\, Large and S
 mall Cents\, Hard Times and Civil War Tokens and More! Shippi
 ng Available. Auction Closes March 1 Beginning @ 7:00 PM. Pr
 eview Available By Appointment.
URL:https://mountainvalleyauctions.bwwsstaging.com/auctions/deta
 il/bw60274
SEQUENCE:1
END:VEVENT
END:VCALENDAR