BEGIN:VCALENDAR
VERSION:2.0
PRODID:-//ExpressionEngine Easy iCalendar plugin//NONSGML v2.0.1//EN
X-WR-TIMEZONE:America/New_York
X-WR-CALNAME:Upcoming Auctions
BEGIN:VEVENT
UID:60794
DTSTAMP:20210605T090000
DTSTART:20210605T090000
DTEND:20210605T100000
SUMMARY:Spring Consignment Auction
LOCATION:14025 Spotswood Trail\, Elkton\, VA 22827\, US
DESCRIPTION:Spring Consignment Auction featuring agricultural\, heavy equ
 ipment\, construction equipment and tools\, vehicles\, trucks\, 
 trailers\, and powersports. This auction is being held on Rt 
 33 in Elkton VA right beside Myers Ford. Call today if you h
 ave vehicles\, equipment\, farm machinery or tools to sell. Co
 nsignment deadline for online bidding and marketing is June 
 2 at 5:00 PM
URL:https://mountainvalleyauctions.bwwsstaging.com/auctions/deta
 il/bw60794
SEQUENCE:1
END:VEVENT
END:VCALENDAR