BEGIN:VCALENDAR
VERSION:2.0
PRODID:-//ExpressionEngine Easy iCalendar plugin//NONSGML v2.0.1//EN
X-WR-TIMEZONE:America/New_York
X-WR-CALNAME:Upcoming Auctions
BEGIN:VEVENT
UID:61087
DTSTAMP:20210508T190000
DTSTART:20210508T190000
DTEND:20210508T200000
SUMMARY:Camp Light Benefit Auction
LOCATION:107 Creative Works Farm\, Waynesboro\, VA 22980\, US
DESCRIPTION:Go back to the 50's with us! Join us for an evening of music
 \, wine and beer\, and dinner\, followed by a live auction. All
  proceeds benefit Camp LIGHT\, a summer camp for children wit
 h special needs and at risk youth. To learn more about Camp 
 LIGHT\, visit www.campLIGHT.org
URL:https://mountainvalleyauctions.bwwsstaging.com/auctions/deta
 il/bw61087
SEQUENCE:1
END:VEVENT
END:VCALENDAR