BEGIN:VCALENDAR
VERSION:2.0
PRODID:-//ExpressionEngine Easy iCalendar plugin//NONSGML v2.0.1//EN
X-WR-TIMEZONE:America/New_York
X-WR-CALNAME:Upcoming Auctions
BEGIN:VEVENT
UID:62178
DTSTAMP:20210405T180000
DTSTART:20210405T180000
DTEND:20210422T180000
SUMMARY:Concrete Statuary Inventory Liquidation
LOCATION:992 S. East Side Hwy\, Elkton\, VA 22827\, US
DESCRIPTION:Online Only Auction to Liquidate Inventory of Concrete Statu
 ary and Retail Store Located In Elkton VA. Auction Closes Ap
 ril 22 @ 6 PM. In Addition To Over 10\,000 Pieces of Concrete
  There Are Store and Office Furnishings\, Decor\, Vehicles\, Eq
 uipment\, Tools\, and Lumber.
URL:https://mountainvalleyauctions.bwwsstaging.com/auctions/deta
 il/bw62178
SEQUENCE:1
END:VEVENT
END:VCALENDAR