BEGIN:VCALENDAR
VERSION:2.0
PRODID:-//ExpressionEngine Easy iCalendar plugin//NONSGML v2.0.1//EN
X-WR-TIMEZONE:America/New_York
X-WR-CALNAME:Upcoming Auctions
BEGIN:VEVENT
UID:62613
DTSTAMP:20210414T180000
DTSTART:20210414T180000
DTEND:20210511T130000
SUMMARY:Waynesboro Metal Fabricators Machinery Liquidation Auction
LOCATION:51 East Side Highway\, Waynesboro\, VA 22980\, US
DESCRIPTION:Online Only Auction to Liquidate The Machinery And Tools At 
 The Waynesboro Metal Fabricators Facility In Waynesboro VA. 
 Included In This Auction Are Multiple Lathes\, Welders\, Brake
 s\, Drills\, Milling Machines\, and Forklifts as Well as Hand a
 nd Power Tools\, Tooling\, Storage\, Welding Rods and Wire. Auc
 tion Closes May 11 beginning @ 1 PM.
URL:https://mountainvalleyauctions.bwwsstaging.com/auctions/deta
 il/bw62613
SEQUENCE:1
END:VEVENT
END:VCALENDAR