BEGIN:VCALENDAR
VERSION:2.0
PRODID:-//ExpressionEngine Easy iCalendar plugin//NONSGML v2.0.1//EN
X-WR-TIMEZONE:America/New_York
X-WR-CALNAME:Upcoming Auctions
BEGIN:VEVENT
UID:62834
DTSTAMP:20210418T120000
DTSTART:20210418T120000
DTEND:20210525T130000
SUMMARY:Building Lots In City Of Staunton Zoned R3
LOCATION:38 Olive St\, Staunton\, VA 24401\, US
DESCRIPTION:This is an incredible opportunity for you to buy over 3 acre
 s of land zoned R3 in the heart of Staunton Virginia. It 
 is being sold in 11 different tracts ranging in size from 0.
 137 to 0.631 Acres. All tracts will be sold to the highest 
 bidder regardless of price with a starting bid of only $1\,0
 00 per tract. Invest\, Develop\, Build - It's your choice!
URL:https://mountainvalleyauctions.bwwsstaging.com/auctions/deta
 il/bw62834
SEQUENCE:1
END:VEVENT
END:VCALENDAR