BEGIN:VCALENDAR
VERSION:2.0
PRODID:-//ExpressionEngine Easy iCalendar plugin//NONSGML v2.0.1//EN
X-WR-TIMEZONE:America/New_York
X-WR-CALNAME:Upcoming Auctions
BEGIN:VEVENT
UID:63735
DTSTAMP:20210509T210000
DTSTART:20210509T210000
DTEND:20210526T190000
SUMMARY:Masonry And Construction Equipment Auction
LOCATION:1445 Blue Grass Valley Road\, Blue Grass\, VA 24413\, US
DESCRIPTION:Online only auction for masonry and construction equipment\, 
 trucks\, trailers\, tools\, and materials. The auction location
  is on Blue Grass Valley Road in Highland County near Blue G
 rass VA. Auction closes May 26.
URL:https://mountainvalleyauctions.bwwsstaging.com/auctions/deta
 il/bw63735
SEQUENCE:1
END:VEVENT
END:VCALENDAR