BEGIN:VCALENDAR
VERSION:2.0
PRODID:-//ExpressionEngine Easy iCalendar plugin//NONSGML v2.0.1//EN
X-WR-TIMEZONE:America/New_York
X-WR-CALNAME:Upcoming Auctions
BEGIN:VEVENT
UID:64436
DTSTAMP:20210525T190000
DTSTART:20210525T190000
DTEND:20210617T190000
SUMMARY:Bealeton VA Area Estate Auction
LOCATION:11422 Old Morgansburg Rd\, Bealeton\, VA 22712\, US
DESCRIPTION:This Bealeton VA online only auction features many unique an
 d vintage items including a 1973 Winnebago motor home\, 1940'
 s and 50's trucks\, Case skid loader\, trailers\, welding and s
 hop equipment\, farm implements\, and lots of tools.
URL:https://mountainvalleyauctions.bwwsstaging.com/auctions/deta
 il/bw64436
SEQUENCE:1
END:VEVENT
END:VCALENDAR