BEGIN:VCALENDAR
VERSION:2.0
PRODID:-//ExpressionEngine Easy iCalendar plugin//NONSGML v2.0.1//EN
X-WR-TIMEZONE:America/New_York
X-WR-CALNAME:Upcoming Auctions
BEGIN:VEVENT
UID:65344
DTSTAMP:20210615T130000
DTSTART:20210615T130000
DTEND:20210715T130000
SUMMARY:Two Bedroom Home on 3.58 +/- Acres With Beautiful Views In H
 istoric Afton VA
LOCATION:3341 Afton Mountain Road\, Afton\, VA 22920\, US
DESCRIPTION:We are offering at online auction the real estate and impro
 vements located at 3341 Afton Mountain Road\, Afton VA 22920.
  This property is 3.58 +/- acres improved by a 1200 sq. ft.
  home built in 1852. It features three levels of porches wit
 h amazing views of Nelson County's rolling hills. This prope
 rty is located in the historic village of Afton VA and is j
 ust minutes away from the Shenandoah National Park\, Blue Rid
 ge Parkway\, and Blue Ridge Tunnel. This spacious property w
 ould make an excellent vacation rental or get away.
URL:https://mountainvalleyauctions.bwwsstaging.com/auctions/deta
 il/bw65344
SEQUENCE:1
END:VEVENT
END:VCALENDAR