BEGIN:VCALENDAR
VERSION:2.0
PRODID:-//ExpressionEngine Easy iCalendar plugin//NONSGML v2.0.1//EN
X-WR-TIMEZONE:America/New_York
X-WR-CALNAME:Upcoming Auctions
BEGIN:VEVENT
UID:66437
DTSTAMP:20210712T080000
DTSTART:20210712T080000
DTEND:20210805T130000
SUMMARY:Two Bedroom Home On 0.45 Acres Near Harrisonburg VA
LOCATION:4648 Rawley Pike\, Harrisonburg\, VA 22801\, US
DESCRIPTION:We are offering at onlineÂ auction the real estate and impro
 vements located at 4648 Rawley Pike\, Harrisonburg VA 22801. 
 This property is 0.459Â +/- acresÂ improved by a 800 sq. ft.
  home with full basement\, garage\, and two large outbuildings
 . This home has two bedrooms/one bath\, with new flooring\, ki
 tchen and other recent upgrades.Â This property is located n
 ear Dale Enterprise and is just minutes away from Harrisonbu
 rg while being located in the Turner Ashby school district.Â
  This well located property would make an excellent investme
 nt or rental property.
URL:https://mountainvalleyauctions.bwwsstaging.com/auctions/deta
 il/bw66437
SEQUENCE:1
END:VEVENT
END:VCALENDAR