BEGIN:VCALENDAR
VERSION:2.0
PRODID:-//ExpressionEngine Easy iCalendar plugin//NONSGML v2.0.1//EN
X-WR-TIMEZONE:America/New_York
X-WR-CALNAME:Upcoming Auctions
BEGIN:VEVENT
UID:66735
DTSTAMP:20210717T140000
DTSTART:20210717T140000
DTEND:20210809T190000
SUMMARY:Musical Instruments Auction
LOCATION:350 Bowman Road\, Dayton\, VA 22821\, US
DESCRIPTION:Musical Instruments For Sale In Online Auction. This is a la
 rge collection of instruments from multiple consignors and i
 ncludes over 75 stringed\, percussion\, and wind instruments w
 ith brand names like Martin\, Selmer\, Fender\, Ibanez\, and Mor
 e. Auction closes August 9 @ 7:00 PM
URL:https://mountainvalleyauctions.bwwsstaging.com/auctions/deta
 il/bw66735
SEQUENCE:1
END:VEVENT
END:VCALENDAR