BEGIN:VCALENDAR
VERSION:2.0
PRODID:-//ExpressionEngine Easy iCalendar plugin//NONSGML v2.0.1//EN
X-WR-TIMEZONE:America/New_York
X-WR-CALNAME:Upcoming Auctions
BEGIN:VEVENT
UID:66975
DTSTAMP:20210723T190000
DTSTART:20210723T190000
DTEND:20210816T190000
SUMMARY:Norma Campbell Estate Auction
LOCATION:202 Grandview Drive\, Harrisonburg\, VA 22801\, US
DESCRIPTION:To settle the estate of the late Norma Cambpell\, we will be 
 selling at online auction the contents of her home at 202 Gr
 andview Drive\, Harrisonburg VA 22801. All of these items com
 e from a clean smoke free and pet free home and include a 2
 007 Cadillac STS\, many pieces of nice furniture\, antiques\, s
 ilver\, cookware\, artwork\, appliances\, silver and gold jewel
 ry\, china\, glassware\, and much more. This Online Only Aucti
 on Closes August 16 @ 7:00 PM.
URL:https://mountainvalleyauctions.bwwsstaging.com/auctions/deta
 il/bw66975
SEQUENCE:1
END:VEVENT
END:VCALENDAR