BEGIN:VCALENDAR
VERSION:2.0
PRODID:-//ExpressionEngine Easy iCalendar plugin//NONSGML v2.0.1//EN
X-WR-TIMEZONE:America/New_York
X-WR-CALNAME:Upcoming Auctions
BEGIN:VEVENT
UID:67102
DTSTAMP:20210904T130000
DTSTART:20210904T130000
DTEND:20210904T140000
SUMMARY:2021 KGPA Summer Finale Show and Sale
LOCATION:900 E High St\, Elizabethtown\, PA 17022\, US
DESCRIPTION:Boer Goat Auction Featuring 20+ full blood and percentage Bo
 er Goats from some of the best breeders in the country. This
  is a simulcast auction with live and online bidding.
URL:https://mountainvalleyauctions.bwwsstaging.com/auctions/deta
 il/bw67102
SEQUENCE:1
END:VEVENT
END:VCALENDAR