BEGIN:VCALENDAR
VERSION:2.0
PRODID:-//ExpressionEngine Easy iCalendar plugin//NONSGML v2.0.1//EN
X-WR-TIMEZONE:America/New_York
X-WR-CALNAME:Upcoming Auctions
BEGIN:VEVENT
UID:68998
DTSTAMP:20210918T111500
DTSTART:20210918T111500
DTEND:20210918T121500
SUMMARY:Hartman Estate Auction
LOCATION:2099 North Mountain Road\, Mt Jackson\, VA 22842\, US
DESCRIPTION:Hartman Estate Auction featuring vehicles\, antique farm mach
 inery\, furniture\, and vintage household items. This will be 
 a live onsite auction with online bidding for select items. 
 Sept 18 @ 9 AM 2099 North Mountain Rd\, Mt Jackson VA.
URL:https://mountainvalleyauctions.bwwsstaging.com/auctions/deta
 il/bw68998
SEQUENCE:1
END:VEVENT
END:VCALENDAR