BEGIN:VCALENDAR
VERSION:2.0
PRODID:-//ExpressionEngine Easy iCalendar plugin//NONSGML v2.0.1//EN
X-WR-TIMEZONE:America/New_York
X-WR-CALNAME:Upcoming Auctions
BEGIN:VEVENT
UID:69317
DTSTAMP:20210911T190000
DTSTART:20210911T190000
DTEND:20210921T190000
SUMMARY:Waynesboro Downsizing/Moving Auction
LOCATION:1275 Ladd Rd\, Waynesboro\, VA 22980\, US
DESCRIPTION:Waynesboro area homeowners have moved and we will be selling
  at online auction the contents of there home and shop at 12
 75 Ladd Rd\, Waynesboro VA 22980. All of these items come fro
 m a clean smoke free and pet free home and include a Bolens
  diesel garden tractor\, 1959 wood boat\, many pieces of nice 
 furniture\, tools\, vintage games and toys\, collectibles\, cook
 ware\, artwork\, glassware\, and much more. This Online Only Au
 ction Closes September 21 @ 7:00 PM.
URL:https://mountainvalleyauctions.bwwsstaging.com/auctions/deta
 il/bw69317
SEQUENCE:1
END:VEVENT
END:VCALENDAR