BEGIN:VCALENDAR
VERSION:2.0
PRODID:-//ExpressionEngine Easy iCalendar plugin//NONSGML v2.0.1//EN
X-WR-TIMEZONE:America/New_York
X-WR-CALNAME:Upcoming Auctions
BEGIN:VEVENT
UID:70147
DTSTAMP:20210929T000000
DTSTART:20210929T000000
DTEND:20211027T130000
SUMMARY:Three Bedroom\, Two Bath Home On 1.067 Acres In Crimora VA
LOCATION:1935 East Side Hwy\, Crimora\, VA 24431\, US
DESCRIPTION:We are offering at online auction the real estate and impro
 vements located at 1935 East Side Highway\, Crimora VA 24431.
  This property is 1.067 +/- acres improved by a 1\,579 sq. 
 ft. home with full basement built in 2009. This home has thr
 ee bedrooms\, two baths\, with hardwood flooring throughout\, w
 rap around deck\, and spacious yard. This property is well l
 ocated in Crimora VA in the Wilson Memorial High School di
 strict.
URL:https://mountainvalleyauctions.bwwsstaging.com/auctions/deta
 il/bw70147
SEQUENCE:1
END:VEVENT
END:VCALENDAR