BEGIN:VCALENDAR
VERSION:2.0
PRODID:-//ExpressionEngine Easy iCalendar plugin//NONSGML v2.0.1//EN
X-WR-TIMEZONE:America/New_York
X-WR-CALNAME:Upcoming Auctions
BEGIN:VEVENT
UID:70284
DTSTAMP:20211001T140000
DTSTART:20211001T140000
DTEND:20211028T130000
SUMMARY:9.22 +/- Acres Near Broadway VA
LOCATION:14535 Mountain Top Lane\, Broadway \, VA 22815\, US
DESCRIPTION:We are offering at online auction a 9.22 +/- acre parcel loc
 ated on Little North Mountain just minutes from Broadway VA.
   This land comes with mature timber\, lots of wildlife\, an
 d a potential building site already leveled. There are beau
 tiful views from the top and easy access to the bottom of th
 e lot via a private road.  This online only auction closes
  October 28 @ 1 PM.
URL:https://mountainvalleyauctions.bwwsstaging.com/auctions/deta
 il/bw70284
SEQUENCE:1
END:VEVENT
END:VCALENDAR