BEGIN:VCALENDAR
VERSION:2.0
PRODID:-//ExpressionEngine Easy iCalendar plugin//NONSGML v2.0.1//EN
X-WR-TIMEZONE:America/New_York
X-WR-CALNAME:Upcoming Auctions
BEGIN:VEVENT
UID:71105
DTSTAMP:20211015T190000
DTSTART:20211015T190000
DTEND:20211025T190000
SUMMARY:Afton Downsizing and Moving Auction
LOCATION:71 Magnolia Acres Ln\, Afton\, VA 22920\, US
DESCRIPTION:Afton area homeowner has moved and we will be selling at onl
 ine auction the contents of their home at 71 Magnolia Acres 
 Ln. All of these items come from a clean smoke free and pet 
 free home and include a 2004 Toyota Tacoma pickup\, riding m
 ower\, nice antiques and fine furniture\, sterling silver\, ant
 ique and vintage artwork\, china and glassware\, lawn and gard
 en tools\, and much more. This Online Only Auction Closes Oct
 ober 25 @ 7:00 PM. Pickup October 26 9AM-6PM and Oct 27 9 AM
  -12PM
URL:https://mountainvalleyauctions.bwwsstaging.com/auctions/deta
 il/bw71105
SEQUENCE:1
END:VEVENT
END:VCALENDAR