BEGIN:VCALENDAR
VERSION:2.0
PRODID:-//ExpressionEngine Easy iCalendar plugin//NONSGML v2.0.1//EN
X-WR-TIMEZONE:America/New_York
X-WR-CALNAME:Upcoming Auctions
BEGIN:VEVENT
UID:72496
DTSTAMP:20211113T210600
DTSTART:20211113T210600
DTEND:20211215T130000
SUMMARY:Four Bedroom Home On 0.80 +/- Acres In Keezletown VA
LOCATION:1695 Indian Trail Road\, Keezletown\, VA 22832\, US
DESCRIPTION:To settle the estate of the late Lisa J. Ellerbee we are off
 ering at online auction the real estate and improvements lo
 cated at 1695 Indian Trail Rd\, Keezletown VA 22832. This pro
 perty is 0.80 +/- acres improved by a 1\,873 sq. ft home an
 d two outbuildings. This home has 4 bedrooms\, 1 1/2 bath\, w
 ith hardwood flooring throughout\, beautiful porch with comp
 osite decking\, and enclosed front porch. This property is j
 ust minutes away from Harrisonburg in the village of Keezlet
 own. This home will require some interior renovations but 
 would make an excellent rental or investment property.
URL:https://mountainvalleyauctions.bwwsstaging.com/auctions/deta
 il/bw72496
SEQUENCE:1
END:VEVENT
END:VCALENDAR