BEGIN:VCALENDAR
VERSION:2.0
PRODID:-//ExpressionEngine Easy iCalendar plugin//NONSGML v2.0.1//EN
X-WR-TIMEZONE:America/New_York
X-WR-CALNAME:Upcoming Auctions
BEGIN:VEVENT
UID:72883
DTSTAMP:20211123T160000
DTSTART:20211123T160000
DTEND:20211207T190000
SUMMARY:Walker Collection Auction #4
LOCATION:2917 Willow Run Rd\, Harrisonburg\, VA 22802\, US
DESCRIPTION:Online only auction for the fourth part of the Tom Walker Co
 llection. This auction features farm equipment\, tools\, antiq
 ue and vintage furniture\, Christmas decorations\, letterpress
  printing plates and blocks\, decorative items\, and much more
 . This auction location is in Harrisonburg VA and closes Tue
 sday December 7. Shipping is available for smaller items.
URL:https://mountainvalleyauctions.bwwsstaging.com/auctions/deta
 il/bw72883
SEQUENCE:1
END:VEVENT
END:VCALENDAR