BEGIN:VCALENDAR
VERSION:2.0
PRODID:-//ExpressionEngine Easy iCalendar plugin//NONSGML v2.0.1//EN
X-WR-TIMEZONE:America/New_York
X-WR-CALNAME:Upcoming Auctions
BEGIN:VEVENT
UID:74097
DTSTAMP:20211227T190000
DTSTART:20211227T190000
DTEND:20220110T190000
SUMMARY:Spangler Estate Auction Part One
LOCATION:121 Garbers Church Rd\, Harrisonburg VA\, VA 22801\, US
DESCRIPTION:Spangler Estate Auction. This is the first of several auctio
 ns we will be conducting for the Dr. John and Jeanne Spangle
 r Estate in the next few months. This first auction includes
  the furniture\, many antiques\, a sampling of the bottle coll
 ection\, cast iron banks\, Coca-Cola and other vintage adverti
 sing\, tins\, china\, stamps\, books\, and art. Auction closes on
  January 10 @ 7 PM.
URL:https://mountainvalleyauctions.bwwsstaging.com/auctions/deta
 il/bw74097
SEQUENCE:1
END:VEVENT
END:VCALENDAR