BEGIN:VCALENDAR
VERSION:2.0
PRODID:-//ExpressionEngine Easy iCalendar plugin//NONSGML v2.0.1//EN
X-WR-TIMEZONE:America/New_York
X-WR-CALNAME:Upcoming Auctions
BEGIN:VEVENT
UID:74232
DTSTAMP:20211229T161600
DTSTART:20211229T161600
DTEND:20220127T130000
SUMMARY:0.34 +/- Acre Building Lot In City Of Staunton
LOCATION:2211 Birch St\, Staunton\, VA 24401\, US
DESCRIPTION:Opportunity knocks! This 0.34+/- acre lot in the City of Sta
 unton has not been on the market since the 1960's. It is zon
 ed R3 and is located at the end of a quiet dead end street.T
 his lot is being sold to the highest bidder regardless of pr
 ice!. Bidding starts at $1\,000. 
URL:https://mountainvalleyauctions.bwwsstaging.com/auctions/deta
 il/bw74232
SEQUENCE:1
END:VEVENT
END:VCALENDAR