BEGIN:VCALENDAR
VERSION:2.0
PRODID:-//ExpressionEngine Easy iCalendar plugin//NONSGML v2.0.1//EN
X-WR-TIMEZONE:America/New_York
X-WR-CALNAME:Upcoming Auctions
BEGIN:VEVENT
UID:74337
DTSTAMP:20220104T190000
DTSTART:20220104T190000
DTEND:20220118T190000
SUMMARY:Huge Coin\, Currency\, And Tokens Auction
LOCATION:350 Bowman Road\, Dayton\, VA 22821\, US
DESCRIPTION:Online Only Auction For Gold\, Silver\, Coins\, Currency\, and T
 okens Featuring Gold Coins\, Silver Dollars\, Eagles and Bulli
 on\, Half Dollars\, Paper Currency\, Quarters\, Dimes\, Nickels\, 
 Large and Small Cents\, Civil War Tokens and CSA Currency! Sh
 ipping Available. Auction Closes January 18 Beginning @ 7:00
  PM. Preview Available By Appointment.
URL:https://mountainvalleyauctions.bwwsstaging.com/auctions/deta
 il/bw74337
SEQUENCE:1
END:VEVENT
END:VCALENDAR