BEGIN:VCALENDAR
VERSION:2.0
PRODID:-//ExpressionEngine Easy iCalendar plugin//NONSGML v2.0.1//EN
X-WR-TIMEZONE:America/New_York
X-WR-CALNAME:Upcoming Auctions
BEGIN:VEVENT
UID:74460
DTSTAMP:20220105T130000
DTSTART:20220105T130000
DTEND:20220210T130000
SUMMARY:Valuable Commercial Real Estate In City Of Staunton
LOCATION:707 Richmond Ave\, Staunton\, VA 24401\, US
DESCRIPTION:We are offering at online auction the real estate and impro
 vements located at 707 Richmond Ave\, Staunton VA 24401. This
  property is 0.51 +/- acres zoned B2 General Commercial an
 d improved by a showroom/warehouse and two story office stru
 cture with over 18\,000 sq ft of floor space.  It features 
 road frontage on both RIchmond Ave and Young St. With an AA
 DT of 21\,000 and only 1.3 miles from I-81 this property woul
 d make an excellent space for a variety of retail or wholesa
 le businesses.
URL:https://mountainvalleyauctions.bwwsstaging.com/auctions/deta
 il/bw74460
SEQUENCE:1
END:VEVENT
END:VCALENDAR