BEGIN:VCALENDAR
VERSION:2.0
PRODID:-//ExpressionEngine Easy iCalendar plugin//NONSGML v2.0.1//EN
X-WR-TIMEZONE:America/New_York
X-WR-CALNAME:Upcoming Auctions
BEGIN:VEVENT
UID:76913
DTSTAMP:20220301T130000
DTSTART:20220301T130000
DTEND:20220315T190000
SUMMARY:Spangler Estate Auction Part Two
LOCATION:121 Garbers Church Rd\, Harrisonburg VA\, VA 22801\, US
DESCRIPTION:This is the second of several auctions we will be conducting
  for the Dr. John and Jeanne Spangler Estate. This auction i
 ncludes vintage advertising\, antiques\, items with historical
  significance\, and hundreds of bottles and jars. Auction clo
 ses on March 15 @ 7 PM.
URL:https://mountainvalleyauctions.bwwsstaging.com/auctions/deta
 il/bw76913
SEQUENCE:1
END:VEVENT
END:VCALENDAR