BEGIN:VCALENDAR
VERSION:2.0
PRODID:-//ExpressionEngine Easy iCalendar plugin//NONSGML v2.0.1//EN
X-WR-TIMEZONE:America/New_York
X-WR-CALNAME:Upcoming Auctions
BEGIN:VEVENT
UID:76951
DTSTAMP:20220302T130000
DTSTART:20220302T130000
DTEND:20220331T130000
SUMMARY:Two Houses On 3.043 +/- Acres Near New Market VA
LOCATION:291 Wild Rose Ln\, New Market\, VA 22844\, US
DESCRIPTION:We are offering at online auction the real estate and impro
 vements located at 291 and 303 Wild Rose Ln\, New Market VA 2
 2844. This property is 3.043 +/- acres improved by two hous
 es and zoned A-1. Both houses are three bedroom. One is 1\,4
 00 Sq Ft and the other is 1\,152 Sq Ft with partial unfinishe
 d basement. This would make an excellent investment property
  with rental income. Both houses are currently leased and oc
 cupied with property tours on scheduled dates only.  This a
 uction closes March 31 @ 1:00 PM.
URL:https://mountainvalleyauctions.bwwsstaging.com/auctions/deta
 il/bw76951
SEQUENCE:1
END:VEVENT
END:VCALENDAR