BEGIN:VCALENDAR
VERSION:2.0
PRODID:-//ExpressionEngine Easy iCalendar plugin//NONSGML v2.0.1//EN
X-WR-TIMEZONE:America/New_York
X-WR-CALNAME:Upcoming Auctions
BEGIN:VEVENT
UID:77684
DTSTAMP:20220311T202500
DTSTART:20220311T202500
DTEND:20220412T190000
SUMMARY:Spring Collector Car Auction
LOCATION:350 Bowman Road\, Dayton\, VA 22821\, US
DESCRIPTION:Now Accepting Consignments! Buy or sell your classic car\, co
 llector car\, sports car\, motorcycle\, or convertible in our S
 pring Collector Car Auction.  This online auction features 
 a number of very desirable and hard to find vehicles. All ve
 hicles run and drive and can be inspected at our office in D
 ayton VA. Transportation is available nationwide. Auction cl
 oses April 12 @ 7 PM. Call Linford @ 540-476-3309 with any 
 questions.  
URL:https://mountainvalleyauctions.bwwsstaging.com/auctions/deta
 il/bw77684
SEQUENCE:1
END:VEVENT
END:VCALENDAR