BEGIN:VCALENDAR
VERSION:2.0
PRODID:-//ExpressionEngine Easy iCalendar plugin//NONSGML v2.0.1//EN
X-WR-TIMEZONE:America/New_York
X-WR-CALNAME:Upcoming Auctions
BEGIN:VEVENT
UID:77717
DTSTAMP:20220315T000000
DTSTART:20220315T000000
DTEND:20220405T190000
SUMMARY:Coin and Currency Auction
LOCATION:350 Bowman Road\, Dayton\, VA 22821\, US
DESCRIPTION:Online Only Auction Featuring Gold Coins\, Silver Dollars\, Ea
 gles and Bullion\, Half Dollars\, Paper Currency\, Quarters\, Di
 mes\, Nickels\, Large and Small Cents\, And CSA Currency! Shipp
 ing Available. Auction Closes April 5 Beginning @ 7:00 PM. P
 review Available By Appointment.
URL:https://mountainvalleyauctions.bwwsstaging.com/auctions/deta
 il/bw77717
SEQUENCE:1
END:VEVENT
END:VCALENDAR