BEGIN:VCALENDAR
VERSION:2.0
PRODID:-//ExpressionEngine Easy iCalendar plugin//NONSGML v2.0.1//EN
X-WR-TIMEZONE:America/New_York
X-WR-CALNAME:Upcoming Auctions
BEGIN:VEVENT
UID:77723
DTSTAMP:20220315T130000
DTSTART:20220315T130000
DTEND:20220413T130000
SUMMARY:Three Bedroom Home And Shop On 1.38 +/- Acres Zoned M-1 In C
 ity Of Harrisonburg
LOCATION:1021 Jefferson St\, Harrisonburg\, VA 22802\, US
DESCRIPTION:We are offering at online auction the real estate and impro
 vements located at 1021 Jefferson St\, Harrisonburg VA 22802.
  This property is 1.38 +/- acres improved by a 2\,064 sq. f
 t. home and two large multi-use buildings. This home has 3 
 bedrooms\, 1 1/2 baths\, 2 enclosed porches\, 1\,000 sq ft base
 ment\, swimming pool\, and tennis court. This property is conv
 eniently located near the Northend Greenway\, with easy acce
 ss to Rt 42 and Rt 11. This is a great opportunity with man
 y potential uses. Auction closes April 13.
URL:https://mountainvalleyauctions.bwwsstaging.com/auctions/deta
 il/bw77723
SEQUENCE:1
END:VEVENT
END:VCALENDAR